BEGIN:VCALENDAR
VERSION:2.0
PRODID:-//hacksw/handcal//NONSGML v1.0//EN
CALSCALE:GREGORIAN
BEGIN:VTIMEZONE
TZID:America/New_York
BEGIN:DAYLIGHT
TZOFFSETFROM:-0600
TZNAME:MDT
TZOFFSETTO:-0600
END:DAYLIGHT
END:VTIMEZONE
DTSTAMP:20260423T094301Z
UID:69ea21e58e181
BEGIN:VEVENT
LOCATION:SCPL, 312 4th Ave, South Charleston, WV US 25303
DESCRIPTION:<p><span style="-webkit-text-stroke-width:0px;background-color:rgb(255, 255, 255);color:rgb(28, 43, 51);display:inline !important;float:none;font-family:&quot;Optimistic 95&quot;, system-ui, sans-serif;font-size:14px;font-style:normal;font-variant-caps:normal;font-variant-ligatures:normal;font-weight:400;letter-spacing:normal;orphans:2;text-align:left;text-decoration-color:initial;text-decoration-style:initial;text-decoration-thickness:initial;text-indent:0px;text-transform:none;white-space:pre-wrap;widows:2;word-spacing:0px;">SCPL will be offering a Senior Computer Class on June 16 at 1pm. Have your questions ready and learn basic computer functions and how to avoid falling for phishing scams. Registration is REQUIRED for this class. Please call 304-744-6561 beginning on June 1 to register.</span></p>
DTSTART;TZID=America/New_York:20260616T130000
DTEND;TZID=America/New_York:20260616T140000
SUMMARY:SENIOR COMPUTER CLASS
URL;VALUE=URI:/senior-computer-class-0
END:VEVENT
END:VCALENDAR