BEGIN:VCALENDAR
VERSION:2.0
PRODID:-//hacksw/handcal//NONSGML v1.0//EN
CALSCALE:GREGORIAN
BEGIN:VTIMEZONE
TZID:America/New_York
BEGIN:DAYLIGHT
TZOFFSETFROM:-0600
TZNAME:MDT
TZOFFSETTO:-0600
END:DAYLIGHT
END:VTIMEZONE
DTSTAMP:20260421T051622Z
UID:69e74066aaa5f
BEGIN:VEVENT
LOCATION:SCPL, 312 4th Ave, South Charleston, WV US 25303
DESCRIPTION:<p>SCPL will be hosting a Bingo Night on Monday, March 23, at 6pm! Grab some free food and drinks and try to get a Bingo to win prizes!</p>
DTSTART;TZID=America/New_York:20260323T180000
DTEND;TZID=America/New_York:20260323T190000
SUMMARY:BINGO NIGHT
URL;VALUE=URI:/bingo-night-0
END:VEVENT
END:VCALENDAR