BEGIN:VCALENDAR
VERSION:2.0
PRODID:-//hacksw/handcal//NONSGML v1.0//EN
CALSCALE:GREGORIAN
BEGIN:VTIMEZONE
TZID:America/New_York
BEGIN:DAYLIGHT
TZOFFSETFROM:-0600
TZNAME:MDT
TZOFFSETTO:-0600
END:DAYLIGHT
END:VTIMEZONE
DTSTAMP:20260421T050025Z
UID:69e73ca99206f
BEGIN:VEVENT
LOCATION:SCPL, 312 4th Ave, South Charleston, WV US 25303
DESCRIPTION:<p>Join us at SCPL on Thursday, March 12, at 6pm for a screening of the classic anime, "Ghost in the Shell!" Fresh popcorn, candy, and drinks are free!</p>
DTSTART;TZID=America/New_York:20260312T180000
DTEND;TZID=America/New_York:20260312T200000
SUMMARY:MOVIE NIGHT @ SCPL - "GHOST IN THE SHELL"
URL;VALUE=URI:/movie-night-scpl-ghost-shell-0
END:VEVENT
END:VCALENDAR