BEGIN:VCALENDAR
VERSION:2.0
PRODID:-//hacksw/handcal//NONSGML v1.0//EN
CALSCALE:GREGORIAN
BEGIN:VTIMEZONE
TZID:America/New_York
BEGIN:DAYLIGHT
TZOFFSETFROM:-0600
TZNAME:MDT
TZOFFSETTO:-0600
END:DAYLIGHT
END:VTIMEZONE
DTSTAMP:20260421T050646Z
UID:69e73e26ee86a
BEGIN:VEVENT
LOCATION:SCPL, 312 4th Ave, South Charleston, WV US 25303
DESCRIPTION:<p>On Monday, February 23, at 6pm, SCPL's Book &amp; Film Club will be tackling Nick Hornby's novel "High Fidelity" and Stephen Frears film starring John Cusack. If you haven't read the book, you're still more than welcome to come watch the film and discuss it with the group! Popcorn, drinks, and candy are free!</p><p>Limited copies of the novel are available to checkout at the front desk!&nbsp;</p>
DTSTART;TZID=America/New_York:20260223T180000
DTEND;TZID=America/New_York:20260223T203000
SUMMARY:BOOK & FILM CLUB - "HIGH FIDELITY"
URL;VALUE=URI:/book-film-club-high-fidelity-0
END:VEVENT
END:VCALENDAR