BEGIN:VCALENDAR
VERSION:2.0
PRODID:-//hacksw/handcal//NONSGML v1.0//EN
CALSCALE:GREGORIAN
BEGIN:VTIMEZONE
TZID:America/New_York
BEGIN:DAYLIGHT
TZOFFSETFROM:-0600
TZNAME:MDT
TZOFFSETTO:-0600
END:DAYLIGHT
END:VTIMEZONE
DTSTAMP:20260420T041457Z
UID:69e5e08131d36
BEGIN:VEVENT
LOCATION:SCPL, 312 4th Ave, South Charleston, WV US 25303
DESCRIPTION:<p>Join us at SCPL on Thursday, February 12, at 6pm for a screening of William Friedkin's startling classic edge-of-your-seat thriller, "Sorcerer," starring Roy Scheider! One of the most tense and hair-raising films ever made, "Sorcerer" is a one-of-a-kind experience. Fresh popcorn, candy, and drinks are free!</p>
DTSTART;TZID=America/New_York:20260212T180000
DTEND;TZID=America/New_York:20260212T190000
SUMMARY:MOVIE NIGHT @ SCPL - "SORCERER"
URL;VALUE=URI:/movie-night-scpl-sorcerer-0
END:VEVENT
END:VCALENDAR