BEGIN:VCALENDAR
VERSION:2.0
PRODID:-//hacksw/handcal//NONSGML v1.0//EN
CALSCALE:GREGORIAN
BEGIN:VTIMEZONE
TZID:America/New_York
BEGIN:DAYLIGHT
TZOFFSETFROM:-0600
TZNAME:MDT
TZOFFSETTO:-0600
END:DAYLIGHT
END:VTIMEZONE
DTSTAMP:20260421T051752Z
UID:69e740c0a5e18
BEGIN:VEVENT
LOCATION:SCPL, 312 4th Ave, South Charleston, WV US 25303
DESCRIPTION:<p><span style="-webkit-text-stroke-width:0px;background-color:rgb(255, 255, 255);color:rgb(8, 8, 9);display:inline !important;float:none;font-family:&quot;Segoe UI Historic&quot;, &quot;Segoe UI&quot;, Helvetica, Arial, sans-serif;font-size:15px;font-style:normal;font-variant-caps:normal;font-variant-ligatures:normal;font-weight:400;letter-spacing:normal;orphans:2;text-align:start;text-decoration-color:initial;text-decoration-style:initial;text-decoration-thickness:initial;text-indent:0px;text-transform:none;white-space:normal;widows:2;word-spacing:0px;">Join Folded Leaf yoga instructor Megan Collins for a yoga class on Thursday, October 23, @ 6pm! Bring your own yoga mat or the library has several available for you to use!</span></p>
DTSTART;TZID=America/New_York:20251023T180000
DTEND;TZID=America/New_York:20251023T190000
SUMMARY:YOGA CLASS
URL;VALUE=URI:/yoga-class-19
END:VEVENT
END:VCALENDAR