BEGIN:VCALENDAR
VERSION:2.0
PRODID:-//hacksw/handcal//NONSGML v1.0//EN
CALSCALE:GREGORIAN
BEGIN:VTIMEZONE
TZID:America/New_York
BEGIN:DAYLIGHT
TZOFFSETFROM:-0600
TZNAME:MDT
TZOFFSETTO:-0600
END:DAYLIGHT
END:VTIMEZONE
DTSTAMP:20260420T203828Z
UID:69e6c7049c827
BEGIN:VEVENT
LOCATION:SCPL, 312 4th Ave, South Charleston, WV US 25303
DESCRIPTION:<p>Holy brain buster, Batman! It's SCPL's Comic Book Trivia Night!</p>

<p>Brush up on your comic book knowledge for a fun trivia contest during our monthly trivia night on Monday, March 3 @ 6pm! Themed prizes will be given for the winning teams! FREE food and drinks from QDOBA will be provided!</p>

DTSTART;TZID=America/New_York:20250303T180000
DTEND;TZID=America/New_York:20250303T190000
SUMMARY:COMIC BOOK TRIVIA NIGHT
URL;VALUE=URI:/superhero-trivia-night-0
END:VEVENT
END:VCALENDAR