BEGIN:VCALENDAR
VERSION:2.0
PRODID:-//hacksw/handcal//NONSGML v1.0//EN
CALSCALE:GREGORIAN
BEGIN:VTIMEZONE
TZID:America/New_York
BEGIN:DAYLIGHT
TZOFFSETFROM:-0600
TZNAME:MDT
TZOFFSETTO:-0600
END:DAYLIGHT
END:VTIMEZONE
DTSTAMP:20260420T043605Z
UID:69e5e57564617
BEGIN:VEVENT
LOCATION:SCPL, 312 4th Ave, South Charleston, WV US 25303
DESCRIPTION:<p>Join former personal trainer Josh for a light exercise program, utilizing resistance bands and dumbbells. This program is aimed to help adults with mobility and strength, both vital for a healthy life.</p>

DTSTART;TZID=America/New_York:20241127T103000
DTEND;TZID=America/New_York:20241127T111500
SUMMARY:POWER UP EXERCISE CLASS
URL;VALUE=URI:/power-exercise-class-40
END:VEVENT
END:VCALENDAR