BEGIN:VCALENDAR
VERSION:2.0
PRODID:-//hacksw/handcal//NONSGML v1.0//EN
CALSCALE:GREGORIAN
BEGIN:VTIMEZONE
TZID:America/New_York
BEGIN:DAYLIGHT
TZOFFSETFROM:-0600
TZNAME:MDT
TZOFFSETTO:-0600
END:DAYLIGHT
END:VTIMEZONE
DTSTAMP:20260419T090944Z
UID:69e4d418dc993
BEGIN:VEVENT
LOCATION:SCPL, 312 4th Ave, South Charleston, WV US 25303
DESCRIPTION:<p>Join us for a free (indoor!!) South Charleston history tour at the South Charleston Interpretive Center (located at 313 D Street).&nbsp;The purpose of the Center is to inform you of the beauty, history and importance of the Midland Trail and the Adena Indians. We want you to travel back in time to learn of the people and culture, which once existed along the trail. No registration required.</p>

DTSTART;TZID=America/New_York:20230708T133000
DTEND;TZID=America/New_York:20230708T143000
SUMMARY:South Charleston Interpretive Center Tour
URL;VALUE=URI:/south-charleston-interpretive-center-tour-6
END:VEVENT
END:VCALENDAR